BEGIN:VCALENDAR
VERSION:2.0
PRODID:icalendar-ruby
CALSCALE:GREGORIAN
METHOD:PUBLISH
BEGIN:VEVENT
DTSTAMP:20260424T095906Z
UID:51-244979@northoak.net
DTSTART:20261025T133000Z
DTEND:20261025T143000Z
CLASS:PUBLIC
CREATED:20260423T212236
DESCRIPTION:Sunday Morning Worship\n8:30am - First Service\n10am - Sunday S
 chool\n11:00am - Second Service
LAST-MODIFIED:20260423T212236
LOCATION:
SUMMARY:Sunday Morning Worship
URL;VALUE=URI:https://northoak.net/events/sunday-morning-worship/2026-10-25
END:VEVENT
END:VCALENDAR
